BEGIN:VCALENDAR
VERSION:2.0
PRODID:-//ExpressionEngine Easy iCalendar plugin//NONSGML v2.0.1//EN
X-WR-TIMEZONE:America/Indiana/Indianapolis
X-WR-CALNAME:Upcoming Auctions
BEGIN:VEVENT
UID:154826
DTSTAMP:20260109T160000
DTSTART:20260109T160000
DTEND:20260223T150000
SUMMARY:171 Maryland Line Road Bruceton Mills WV! 2.24 Acres with Sh
 op and office
LOCATION:{location}
DESCRIPTION:171 Maryland Line Road\, Bruceton Mills WV!  Exceptional Com
 mercial Opportunity!  2.24 Acres with garage and office sp
 ace! Exceptional Commercial Opportunity in the heart of scen
 ic Bruceton Mills\, WV! Unlock the potential of your business
  with this remarkable property that seamlessly blends functi
 onality with versatility. Nestled just minutes from I-68\, th
 is 2\,300 sqft commercial building is perfectly situated for 
 optimal visibility and accessibility. Boasting a generous 34
 x64 footprint\, this building offers ample space for a variet
 y of business ventures. Whether you're looking to expand you
 r current operations or start anew\, the open layout invites 
 endless possibilities. With three garage bays and an additio
 nal two-stall detached garage\, this property is ideal for au
 tomotive services\, storage solutions\, or workshop spaces. Ea
 ch bay is easily accessible\, making operations smooth and ef
 ficient. Elevate your business with a private studio located
  on the upper level. This space features its own deck for re
 laxation or meetings outdoors\, a kitchen for convenience\, an
 d a half bath\, making it a fantastic addition for creative p
 rofessionals or as a meeting space. With surveillance camera
 s strategically placed around the property\, you can rest ass
 ured knowing your business space is safe and monitored. This
  commercial space isn't just a building\; it's a canvas for y
 our business aspirations. Imagine the potential of being par
 t of a community that values entrepreneurship and innovation
 . Don’t miss out on this incredible opportunity to establi
 sh your business in a prime location. Contact us today to sc
 hedule your private tour and take the first step toward real
 izing your vision!
URL:https://www.wilesauction.com/auctions/detail/bw154826
SEQUENCE:1
END:VEVENT
END:VCALENDAR