BEGIN:VCALENDAR
VERSION:2.0
PRODID:-//ExpressionEngine Easy iCalendar plugin//NONSGML v2.0.1//EN
X-WR-TIMEZONE:America/Indiana/Indianapolis
X-WR-CALNAME:Upcoming Auctions
BEGIN:VEVENT
UID:154724
DTSTAMP:20260108T181500
DTSTART:20260108T181500
DTEND:20260128T190000
SUMMARY:Good News Mountaineer Garage Winter Car Auction
LOCATION:{location}
DESCRIPTION:Good News Mountaineer Garage Winter Car Auction
URL:https://www.wilesauction.com/auctions/detail/bw154724
SEQUENCE:1
END:VEVENT
END:VCALENDAR