BEGIN:VCALENDAR
VERSION:2.0
PRODID:-//ExpressionEngine Easy iCalendar plugin//NONSGML v2.0.1//EN
X-WR-TIMEZONE:America/New_York
X-WR-CALNAME:Upcoming Auctions
BEGIN:VEVENT
UID:153888
DTSTAMP:20251219T160000
DTSTART:20251219T160000
DTEND:20260122T190000
SUMMARY:No Reserve\, Lucy Silbaugh Estate Gun Auction! Guns\, Scopes a
 nd even a Thermal!
LOCATION:{location}
DESCRIPTION:No Reserve\, Lucy Silbaugh Estate Gun Auction! Guns\, Scopes a
 nd even a Thermal! Only a10% buyer's premium.  
URL:https://www.wilesauction.com/auctions/detail/bw153888
SEQUENCE:1
END:VEVENT
END:VCALENDAR