BEGIN:VCALENDAR
VERSION:2.0
PRODID:-//ExpressionEngine Easy iCalendar plugin//NONSGML v2.0.1//EN
X-WR-TIMEZONE:America/New_York
X-WR-CALNAME:Upcoming Auctions
BEGIN:VEVENT
UID:152104
DTSTAMP:20251122T195000
DTSTART:20251122T195000
DTEND:20251210T190000
SUMMARY:Christmas Auction!  Lots of Diamonds\, Jewelry\, Paper Collect
 able Paper Money\, Coins\, Toy Trucks with some Buckwheat Fest
 ival Items!
LOCATION:{location}
DESCRIPTION:Christmas Coin\, Paper Money and Jewelry Auction with some B
 uckwheat Festival Items! Over 400 lots!
URL:https://www.wilesauction.com/auctions/detail/bw152104
SEQUENCE:1
END:VEVENT
END:VCALENDAR