BEGIN:VCALENDAR
VERSION:2.0
PRODID:-//ExpressionEngine Easy iCalendar plugin//NONSGML v2.0.1//EN
X-WR-TIMEZONE:America/New_York
X-WR-CALNAME:Upcoming Auctions
BEGIN:VEVENT
UID:151050
DTSTAMP:20251030T100000
DTSTART:20251030T100000
DTEND:20251120T150000
SUMMARY:Ices Ferry Estate Auction
LOCATION:{location}
DESCRIPTION:Weâ€™re excited to bring you another beautiful collection fr
 om this stunning Ices Ferry estate! Every piece in this sale
  is full of charm\, quality\, and craftsmanship â€” from elega
 nt furniture and timeless dÃ©cor to one-of-a-kind artwork yo
 u just wonâ€™t find anywhere else. If you love luxury estate
  sales\, this oneâ€™s for you. Whether youâ€™re decorating yo
 ur home\, adding a statement piece to your collection\, or jus
 t love browsing unique finds\, youâ€™ll want to check out thi
 s auction! Important Dates Bidding Opens: Wednesday\, October
  30 @ 10 AM Open House: Friday\, November 15 | 12â€“3 PM Auct
 ion Ends: Wednesday\, November 20 @ 3 PM View and bid online:
  www.wilesauction.com Location: Ices Ferry\, Morgantown\, WV H
 ave questions? Weâ€™re happy to help â€” just message or cal
 l us anytime! â€” Wiles Auction Company Ronnie Wiles\, Jr. â€
 ¢ WV License #2285 Dominick Claudio â€¢ WV License #2495A 30
 4-680-7140 | 304-376-2544 wilesauction@gmail.com | wilesauct
 ion.com
URL:https://www.wilesauction.com/auctions/detail/bw151050
SEQUENCE:1
END:VEVENT
END:VCALENDAR