BEGIN:VCALENDAR
VERSION:2.0
PRODID:-//ExpressionEngine Easy iCalendar plugin//NONSGML v2.0.1//EN
X-WR-TIMEZONE:America/New_York
X-WR-CALNAME:Upcoming Auctions
BEGIN:VEVENT
UID:150224
DTSTAMP:20251013T170000
DTSTART:20251013T170000
DTEND:20251121T150000
SUMMARY:1639 Sabraton Ave\, Morgantown\, WV
LOCATION:{location}
DESCRIPTION:1639 Sabraton Avenue – Office/Retail Space | Morgantown\, W
 V Now open for bidding! Discover 2\,250± square feet of vers
 atile office or retail space in the heart of Sabraton. Conve
 niently located just off I-68 and minutes from downtown Morg
 antown\, this property offers prime visibility and easy acces
 s for clients\, customers\, or tenants. Featuring a flexible f
 loor plan with multi-tenant possibilities\, the building is p
 erfectly suited for a growing business\, investment opportuni
 ty\, or owner-occupant seeking income potential. The layout p
 rovides open workspace\, private offices\, restrooms\, and stor
 age — adaptable for a wide range of uses. Highlights: 2\,25
 0± sq. ft. commercial space Prime Sabraton location near I-
 68 & downtown Morgantown Flexible layout with multi-tenant p
 otential Ample parking and excellent visibility Great opport
 unity for investors or business owners Open Houses: Saturday
 \, November 1st & 15th | 10AM – 12PM Auction Ends: Friday\, 
 November 21st at 3:00 PM Don’t miss this chance to own com
 mercial property in one of Morgantown’s most accessible an
 d growing areas. Register and bid now at WilesAuction.com
URL:https://www.wilesauction.com/auctions/detail/bw150224
SEQUENCE:1
END:VEVENT
END:VCALENDAR