BEGIN:VCALENDAR
VERSION:2.0
PRODID:-//ExpressionEngine Easy iCalendar plugin//NONSGML v2.0.0//EN
X-WR-TIMEZONE:America/Indiana/Indianapolis
X-WR-CALNAME:Upcoming Auctions
BEGIN:VEVENT
UID:147243
DTSTAMP:20250827T153000
DTSTART:20250827T153000
DTEND:20250918T190000
SUMMARY:Marital Property Divorce Auction
LOCATION:{location}
DESCRIPTION:Marital Property Divorce Auction.  Some decent items.  Eve
 rything is in the Masontown WV area.  Some at the office an
 d some nearby.  10% buyers premium.  Call Ronnie Wiles at 
 304-680-7140 for more info. 
URL:https://www.wilesauction.com/auctions/detail/bw147243
SEQUENCE:1
END:VEVENT
END:VCALENDAR