BEGIN:VCALENDAR
VERSION:2.0
PRODID:-//ExpressionEngine Easy iCalendar plugin//NONSGML v2.0.1//EN
X-WR-TIMEZONE:America/Indiana/Indianapolis
X-WR-CALNAME:Upcoming Auctions
BEGIN:VEVENT
UID:146222
DTSTAMP:20250812T190000
DTSTART:20250812T190000
DTEND:20250925T190000
SUMMARY:765 Meadowbrook Road\, Morgantown WV
LOCATION:{location}
DESCRIPTION:Location\, Location\, Location!  4 Bedroom home on a full bas
 ement within walking distance to the hospital and stadium\, 7
 65 Meadowbrook Road Morgantown WV 26505 has so much to offe
 r.  Off street Parking\, hardwood flooring and a screened in
  back porch.  Set up to be a one level living home with a o
 ne car garage.  Has a wheelchair lift to access the home f
 rom the back porch.  Central air and no HOA.  This classic
  home was built in 1961 and has a lot of character and charm
 .  Opportunity in this area doesn't happen often\, don't mi
 ss this location opportunity.  Open house Saturday Sept 6th
  2-6PM and Saturday Sept 20th 2-6pm.  Auction ending Septem
 ber 25th at 7pm.  10% buyers premium do within 24 hours of
  auction end with balance due within 60 days.  Contact Ronn
 ie Wiles at 304-680-7140 for more information. Railey WV Pro
 perties Broker.  Ronnie Wiles Salesperson/Auctioneer WVS190
 300721/WV#2285 More Pictures coming Soon!
URL:https://www.wilesauction.com/auctions/detail/bw146222
SEQUENCE:1
END:VEVENT
END:VCALENDAR