BEGIN:VCALENDAR
VERSION:2.0
PRODID:-//ExpressionEngine Easy iCalendar plugin//NONSGML v2.0.1//EN
X-WR-TIMEZONE:America/Indiana/Indianapolis
X-WR-CALNAME:Upcoming Auctions
BEGIN:VEVENT
UID:145711
DTSTAMP:20250820T150000
DTSTART:20250820T150000
DTEND:20250909T190000
SUMMARY:Pre-Moving Sale
LOCATION:{location}
DESCRIPTION:Pre-Moving Sale.  Some dear friends of mine have decided th
 ey are to the age where they need to think about downsizing
 .  They have had many businesses and have accumulated lots 
 of stuff.  Auction will have several items.  A wide variet
 y.  This sale ending Sept 9th at 7pm.  Open house to view 
 the items at 14686 Veterans Memorial Hwy on Sept 6 9am-Noon.
   Will be adding more items. 10% buyer's premium.  Call Ro
 nnie Wiles for more Info.  304-680-7140
URL:https://www.wilesauction.com/auctions/detail/bw145711
SEQUENCE:1
END:VEVENT
END:VCALENDAR