BEGIN:VCALENDAR
VERSION:2.0
PRODID:-//ExpressionEngine Easy iCalendar plugin//NONSGML v2.0.1//EN
X-WR-TIMEZONE:America/New_York
X-WR-CALNAME:Upcoming Auctions
BEGIN:VEVENT
UID:144999
DTSTAMP:20250901T070000
DTSTART:20250901T070000
DTEND:20250930T190000
SUMMARY:ANNUAL GUN AUCTION!
LOCATION:{location}
DESCRIPTION:Annual Gun Auction!  We plan to have a great selection this
  year.  Some are brand new with several used and we will a
 lso be taking consignments.  Please check back periodically
 \, we will be adding items weekly.  I wanted to get some of 
 the stuff out there for people to view.  If you're planning
  on a new gun in the future\, please consider one of these. 
  The winning bidder must be the person who comes to get the 
 gun.  We will be doing federal 4473 background checks on al
 l firearms\, even used.  There is no charge for the backgrou
 nd checks when picked up from us.  We can ship to your loca
 l FFL\, $40 ground shipping charge per long gun\, $25 for hand
 guns in the lower 48 states.  If you would like to sell som
 e firearms\, we always buy\, from one gun to entire collection
 s.  We can offer your items to this auction for consignmen
 t\, reach out for more information.  If you have a new gun p
 icked out\, please call us for pricing\, big "box" type stores
  cannot compete with our pricing. We also do take trades whe
 n you're buying new from us! For the auction there is a 10% 
 buyer's premium fee.  Thanks for looking and good luck!  C
 all or text Ronnie for more info\, 304-680-7140 cell.  We wi
 ll be moving the guns to 10365 Veterans Memorial Hwy in Maso
 ntown for viewing on Friday Sept 27th from 10-4 and Saturday
  the 28th from 8-4.  We highly encourage to come see the gu
 ns in person before bidding or send someone whose judgment y
 ou trust.  This is our Masontown WV location.  
URL:https://www.wilesauction.com/auctions/detail/bw144999
SEQUENCE:1
END:VEVENT
END:VCALENDAR