BEGIN:VCALENDAR
VERSION:2.0
PRODID:-//ExpressionEngine Easy iCalendar plugin//NONSGML v2.0.1//EN
X-WR-TIMEZONE:America/Indiana/Indianapolis
X-WR-CALNAME:Upcoming Auctions
BEGIN:VEVENT
UID:142660
DTSTAMP:20250723T113200
DTSTART:20250723T113200
DTEND:20250820T190000
SUMMARY:Living Estate out of Fairmont
LOCATION:{location}
DESCRIPTION:Living Estate out of Fairmont This collection belongs to a f
 riend of mines mother. She is widowed and going to live in a
 n assisted living facility.  10% buyers premium. Some nice 
 antiques. Should be something for everyone. Has been moved t
 o our facility in Masontown. Must be picked up within 7 days
 . Happy bidding and good luck!
URL:https://www.wilesauction.com/auctions/detail/bw142660
SEQUENCE:1
END:VEVENT
END:VCALENDAR